BEGIN:VCALENDAR
VERSION:2.0
PRODID:-//White Rabbits Hospitality - ECPv6.15.20//NONSGML v1.0//EN
CALSCALE:GREGORIAN
METHOD:PUBLISH
X-WR-CALNAME:White Rabbits Hospitality
X-ORIGINAL-URL:https://whiterabbitshospitality.com
X-WR-CALDESC:Events for White Rabbits Hospitality
REFRESH-INTERVAL;VALUE=DURATION:PT1H
X-Robots-Tag:noindex
X-PUBLISHED-TTL:PT1H
BEGIN:VTIMEZONE
TZID:UTC
BEGIN:STANDARD
TZOFFSETFROM:+0000
TZOFFSETTO:+0000
TZNAME:UTC
DTSTART:20290101T000000
END:STANDARD
END:VTIMEZONE
BEGIN:VEVENT
DTSTART;TZID=UTC:20301102T080000
DTEND;TZID=UTC:20301102T120000
DTSTAMP:20260422T023919
CREATED:20260409T162552Z
LAST-MODIFIED:20260409T162552Z
UID:10000236-1919836800-1919851200@whiterabbitshospitality.com
SUMMARY:Farmers Market
DESCRIPTION:White Rabbit will be popping up at the Winchester–Clark County Farmers Market on Depot Street! Stop by our booth to connect\, support local\, and experience everything that makes downtown Winchester special. It’s the perfect way to spend a Saturday morning—good vibes\, great people\, and plenty to explore.
URL:https://whiterabbitshospitality.com/event/farmers-market/2030-11-02/
END:VEVENT
BEGIN:VEVENT
DTSTART;TZID=UTC:20301109T080000
DTEND;TZID=UTC:20301109T120000
DTSTAMP:20260422T023919
CREATED:20260409T162552Z
LAST-MODIFIED:20260409T162552Z
UID:10000237-1920441600-1920456000@whiterabbitshospitality.com
SUMMARY:Farmers Market
DESCRIPTION:White Rabbit will be popping up at the Winchester–Clark County Farmers Market on Depot Street! Stop by our booth to connect\, support local\, and experience everything that makes downtown Winchester special. It’s the perfect way to spend a Saturday morning—good vibes\, great people\, and plenty to explore.
URL:https://whiterabbitshospitality.com/event/farmers-market/2030-11-09/
END:VEVENT
BEGIN:VEVENT
DTSTART;TZID=UTC:20301116T080000
DTEND;TZID=UTC:20301116T120000
DTSTAMP:20260422T023919
CREATED:20260409T162552Z
LAST-MODIFIED:20260409T162552Z
UID:10000238-1921046400-1921060800@whiterabbitshospitality.com
SUMMARY:Farmers Market
DESCRIPTION:White Rabbit will be popping up at the Winchester–Clark County Farmers Market on Depot Street! Stop by our booth to connect\, support local\, and experience everything that makes downtown Winchester special. It’s the perfect way to spend a Saturday morning—good vibes\, great people\, and plenty to explore.
URL:https://whiterabbitshospitality.com/event/farmers-market/2030-11-16/
END:VEVENT
BEGIN:VEVENT
DTSTART;TZID=UTC:20301123T080000
DTEND;TZID=UTC:20301123T120000
DTSTAMP:20260422T023919
CREATED:20260409T162552Z
LAST-MODIFIED:20260409T162552Z
UID:10000239-1921651200-1921665600@whiterabbitshospitality.com
SUMMARY:Farmers Market
DESCRIPTION:White Rabbit will be popping up at the Winchester–Clark County Farmers Market on Depot Street! Stop by our booth to connect\, support local\, and experience everything that makes downtown Winchester special. It’s the perfect way to spend a Saturday morning—good vibes\, great people\, and plenty to explore.
URL:https://whiterabbitshospitality.com/event/farmers-market/2030-11-23/
END:VEVENT
BEGIN:VEVENT
DTSTART;TZID=UTC:20301130T080000
DTEND;TZID=UTC:20301130T120000
DTSTAMP:20260422T023919
CREATED:20260409T162552Z
LAST-MODIFIED:20260409T162552Z
UID:10000240-1922256000-1922270400@whiterabbitshospitality.com
SUMMARY:Farmers Market
DESCRIPTION:White Rabbit will be popping up at the Winchester–Clark County Farmers Market on Depot Street! Stop by our booth to connect\, support local\, and experience everything that makes downtown Winchester special. It’s the perfect way to spend a Saturday morning—good vibes\, great people\, and plenty to explore.
URL:https://whiterabbitshospitality.com/event/farmers-market/2030-11-30/
END:VEVENT
BEGIN:VEVENT
DTSTART;TZID=UTC:20301207T080000
DTEND;TZID=UTC:20301207T120000
DTSTAMP:20260422T023919
CREATED:20260409T162552Z
LAST-MODIFIED:20260409T162552Z
UID:10000241-1922860800-1922875200@whiterabbitshospitality.com
SUMMARY:Farmers Market
DESCRIPTION:White Rabbit will be popping up at the Winchester–Clark County Farmers Market on Depot Street! Stop by our booth to connect\, support local\, and experience everything that makes downtown Winchester special. It’s the perfect way to spend a Saturday morning—good vibes\, great people\, and plenty to explore.
URL:https://whiterabbitshospitality.com/event/farmers-market/2030-12-07/
END:VEVENT
BEGIN:VEVENT
DTSTART;TZID=UTC:20301214T080000
DTEND;TZID=UTC:20301214T120000
DTSTAMP:20260422T023919
CREATED:20260409T162552Z
LAST-MODIFIED:20260409T162552Z
UID:10000242-1923465600-1923480000@whiterabbitshospitality.com
SUMMARY:Farmers Market
DESCRIPTION:White Rabbit will be popping up at the Winchester–Clark County Farmers Market on Depot Street! Stop by our booth to connect\, support local\, and experience everything that makes downtown Winchester special. It’s the perfect way to spend a Saturday morning—good vibes\, great people\, and plenty to explore.
URL:https://whiterabbitshospitality.com/event/farmers-market/2030-12-14/
END:VEVENT
BEGIN:VEVENT
DTSTART;TZID=UTC:20301221T080000
DTEND;TZID=UTC:20301221T120000
DTSTAMP:20260422T023919
CREATED:20260409T162552Z
LAST-MODIFIED:20260409T162552Z
UID:10000243-1924070400-1924084800@whiterabbitshospitality.com
SUMMARY:Farmers Market
DESCRIPTION:White Rabbit will be popping up at the Winchester–Clark County Farmers Market on Depot Street! Stop by our booth to connect\, support local\, and experience everything that makes downtown Winchester special. It’s the perfect way to spend a Saturday morning—good vibes\, great people\, and plenty to explore.
URL:https://whiterabbitshospitality.com/event/farmers-market/2030-12-21/
END:VEVENT
BEGIN:VEVENT
DTSTART;TZID=UTC:20301228T080000
DTEND;TZID=UTC:20301228T120000
DTSTAMP:20260422T023919
CREATED:20260409T162552Z
LAST-MODIFIED:20260409T162552Z
UID:10000244-1924675200-1924689600@whiterabbitshospitality.com
SUMMARY:Farmers Market
DESCRIPTION:White Rabbit will be popping up at the Winchester–Clark County Farmers Market on Depot Street! Stop by our booth to connect\, support local\, and experience everything that makes downtown Winchester special. It’s the perfect way to spend a Saturday morning—good vibes\, great people\, and plenty to explore.
URL:https://whiterabbitshospitality.com/event/farmers-market/2030-12-28/
END:VEVENT
BEGIN:VEVENT
DTSTART;TZID=UTC:20310104T080000
DTEND;TZID=UTC:20310104T120000
DTSTAMP:20260422T023919
CREATED:20260409T162552Z
LAST-MODIFIED:20260409T162552Z
UID:10000245-1925280000-1925294400@whiterabbitshospitality.com
SUMMARY:Farmers Market
DESCRIPTION:White Rabbit will be popping up at the Winchester–Clark County Farmers Market on Depot Street! Stop by our booth to connect\, support local\, and experience everything that makes downtown Winchester special. It’s the perfect way to spend a Saturday morning—good vibes\, great people\, and plenty to explore.
URL:https://whiterabbitshospitality.com/event/farmers-market/2031-01-04/
END:VEVENT
BEGIN:VEVENT
DTSTART;TZID=UTC:20310111T080000
DTEND;TZID=UTC:20310111T120000
DTSTAMP:20260422T023919
CREATED:20260409T162552Z
LAST-MODIFIED:20260409T162552Z
UID:10000246-1925884800-1925899200@whiterabbitshospitality.com
SUMMARY:Farmers Market
DESCRIPTION:White Rabbit will be popping up at the Winchester–Clark County Farmers Market on Depot Street! Stop by our booth to connect\, support local\, and experience everything that makes downtown Winchester special. It’s the perfect way to spend a Saturday morning—good vibes\, great people\, and plenty to explore.
URL:https://whiterabbitshospitality.com/event/farmers-market/2031-01-11/
END:VEVENT
BEGIN:VEVENT
DTSTART;TZID=UTC:20310118T080000
DTEND;TZID=UTC:20310118T120000
DTSTAMP:20260422T023919
CREATED:20260409T162552Z
LAST-MODIFIED:20260409T162552Z
UID:10000247-1926489600-1926504000@whiterabbitshospitality.com
SUMMARY:Farmers Market
DESCRIPTION:White Rabbit will be popping up at the Winchester–Clark County Farmers Market on Depot Street! Stop by our booth to connect\, support local\, and experience everything that makes downtown Winchester special. It’s the perfect way to spend a Saturday morning—good vibes\, great people\, and plenty to explore.
URL:https://whiterabbitshospitality.com/event/farmers-market/2031-01-18/
END:VEVENT
BEGIN:VEVENT
DTSTART;TZID=UTC:20310125T080000
DTEND;TZID=UTC:20310125T120000
DTSTAMP:20260422T023919
CREATED:20260409T162552Z
LAST-MODIFIED:20260409T162552Z
UID:10000248-1927094400-1927108800@whiterabbitshospitality.com
SUMMARY:Farmers Market
DESCRIPTION:White Rabbit will be popping up at the Winchester–Clark County Farmers Market on Depot Street! Stop by our booth to connect\, support local\, and experience everything that makes downtown Winchester special. It’s the perfect way to spend a Saturday morning—good vibes\, great people\, and plenty to explore.
URL:https://whiterabbitshospitality.com/event/farmers-market/2031-01-25/
END:VEVENT
BEGIN:VEVENT
DTSTART;TZID=UTC:20310201T080000
DTEND;TZID=UTC:20310201T120000
DTSTAMP:20260422T023919
CREATED:20260409T162552Z
LAST-MODIFIED:20260409T162552Z
UID:10000249-1927699200-1927713600@whiterabbitshospitality.com
SUMMARY:Farmers Market
DESCRIPTION:White Rabbit will be popping up at the Winchester–Clark County Farmers Market on Depot Street! Stop by our booth to connect\, support local\, and experience everything that makes downtown Winchester special. It’s the perfect way to spend a Saturday morning—good vibes\, great people\, and plenty to explore.
URL:https://whiterabbitshospitality.com/event/farmers-market/2031-02-01/
END:VEVENT
BEGIN:VEVENT
DTSTART;TZID=UTC:20310208T080000
DTEND;TZID=UTC:20310208T120000
DTSTAMP:20260422T023919
CREATED:20260409T162552Z
LAST-MODIFIED:20260409T162552Z
UID:10000250-1928304000-1928318400@whiterabbitshospitality.com
SUMMARY:Farmers Market
DESCRIPTION:White Rabbit will be popping up at the Winchester–Clark County Farmers Market on Depot Street! Stop by our booth to connect\, support local\, and experience everything that makes downtown Winchester special. It’s the perfect way to spend a Saturday morning—good vibes\, great people\, and plenty to explore.
URL:https://whiterabbitshospitality.com/event/farmers-market/2031-02-08/
END:VEVENT
BEGIN:VEVENT
DTSTART;TZID=UTC:20310215T080000
DTEND;TZID=UTC:20310215T120000
DTSTAMP:20260422T023919
CREATED:20260409T162552Z
LAST-MODIFIED:20260409T162552Z
UID:10000251-1928908800-1928923200@whiterabbitshospitality.com
SUMMARY:Farmers Market
DESCRIPTION:White Rabbit will be popping up at the Winchester–Clark County Farmers Market on Depot Street! Stop by our booth to connect\, support local\, and experience everything that makes downtown Winchester special. It’s the perfect way to spend a Saturday morning—good vibes\, great people\, and plenty to explore.
URL:https://whiterabbitshospitality.com/event/farmers-market/2031-02-15/
END:VEVENT
BEGIN:VEVENT
DTSTART;TZID=UTC:20310222T080000
DTEND;TZID=UTC:20310222T120000
DTSTAMP:20260422T023919
CREATED:20260409T162552Z
LAST-MODIFIED:20260409T162552Z
UID:10000252-1929513600-1929528000@whiterabbitshospitality.com
SUMMARY:Farmers Market
DESCRIPTION:White Rabbit will be popping up at the Winchester–Clark County Farmers Market on Depot Street! Stop by our booth to connect\, support local\, and experience everything that makes downtown Winchester special. It’s the perfect way to spend a Saturday morning—good vibes\, great people\, and plenty to explore.
URL:https://whiterabbitshospitality.com/event/farmers-market/2031-02-22/
END:VEVENT
BEGIN:VEVENT
DTSTART;TZID=UTC:20310301T080000
DTEND;TZID=UTC:20310301T120000
DTSTAMP:20260422T023919
CREATED:20260409T162552Z
LAST-MODIFIED:20260409T162552Z
UID:10000253-1930118400-1930132800@whiterabbitshospitality.com
SUMMARY:Farmers Market
DESCRIPTION:White Rabbit will be popping up at the Winchester–Clark County Farmers Market on Depot Street! Stop by our booth to connect\, support local\, and experience everything that makes downtown Winchester special. It’s the perfect way to spend a Saturday morning—good vibes\, great people\, and plenty to explore.
URL:https://whiterabbitshospitality.com/event/farmers-market/2031-03-01/
END:VEVENT
BEGIN:VEVENT
DTSTART;TZID=UTC:20310308T080000
DTEND;TZID=UTC:20310308T120000
DTSTAMP:20260422T023919
CREATED:20260409T162552Z
LAST-MODIFIED:20260409T162552Z
UID:10000254-1930723200-1930737600@whiterabbitshospitality.com
SUMMARY:Farmers Market
DESCRIPTION:White Rabbit will be popping up at the Winchester–Clark County Farmers Market on Depot Street! Stop by our booth to connect\, support local\, and experience everything that makes downtown Winchester special. It’s the perfect way to spend a Saturday morning—good vibes\, great people\, and plenty to explore.
URL:https://whiterabbitshospitality.com/event/farmers-market/2031-03-08/
END:VEVENT
BEGIN:VEVENT
DTSTART;TZID=UTC:20310315T080000
DTEND;TZID=UTC:20310315T120000
DTSTAMP:20260422T023919
CREATED:20260409T162552Z
LAST-MODIFIED:20260409T162552Z
UID:10000255-1931328000-1931342400@whiterabbitshospitality.com
SUMMARY:Farmers Market
DESCRIPTION:White Rabbit will be popping up at the Winchester–Clark County Farmers Market on Depot Street! Stop by our booth to connect\, support local\, and experience everything that makes downtown Winchester special. It’s the perfect way to spend a Saturday morning—good vibes\, great people\, and plenty to explore.
URL:https://whiterabbitshospitality.com/event/farmers-market/2031-03-15/
END:VEVENT
BEGIN:VEVENT
DTSTART;TZID=UTC:20310322T080000
DTEND;TZID=UTC:20310322T120000
DTSTAMP:20260422T023919
CREATED:20260409T162552Z
LAST-MODIFIED:20260409T162552Z
UID:10000256-1931932800-1931947200@whiterabbitshospitality.com
SUMMARY:Farmers Market
DESCRIPTION:White Rabbit will be popping up at the Winchester–Clark County Farmers Market on Depot Street! Stop by our booth to connect\, support local\, and experience everything that makes downtown Winchester special. It’s the perfect way to spend a Saturday morning—good vibes\, great people\, and plenty to explore.
URL:https://whiterabbitshospitality.com/event/farmers-market/2031-03-22/
END:VEVENT
BEGIN:VEVENT
DTSTART;TZID=UTC:20310329T080000
DTEND;TZID=UTC:20310329T120000
DTSTAMP:20260422T023919
CREATED:20260409T162552Z
LAST-MODIFIED:20260409T162552Z
UID:10000257-1932537600-1932552000@whiterabbitshospitality.com
SUMMARY:Farmers Market
DESCRIPTION:White Rabbit will be popping up at the Winchester–Clark County Farmers Market on Depot Street! Stop by our booth to connect\, support local\, and experience everything that makes downtown Winchester special. It’s the perfect way to spend a Saturday morning—good vibes\, great people\, and plenty to explore.
URL:https://whiterabbitshospitality.com/event/farmers-market/2031-03-29/
END:VEVENT
BEGIN:VEVENT
DTSTART;TZID=UTC:20310405T080000
DTEND;TZID=UTC:20310405T120000
DTSTAMP:20260422T023919
CREATED:20260409T162552Z
LAST-MODIFIED:20260409T162552Z
UID:10000258-1933142400-1933156800@whiterabbitshospitality.com
SUMMARY:Farmers Market
DESCRIPTION:White Rabbit will be popping up at the Winchester–Clark County Farmers Market on Depot Street! Stop by our booth to connect\, support local\, and experience everything that makes downtown Winchester special. It’s the perfect way to spend a Saturday morning—good vibes\, great people\, and plenty to explore.
URL:https://whiterabbitshospitality.com/event/farmers-market/2031-04-05/
END:VEVENT
END:VCALENDAR