BEGIN:VCALENDAR
VERSION:2.0
PRODID:-//White Rabbits Hospitality - ECPv6.15.20//NONSGML v1.0//EN
CALSCALE:GREGORIAN
METHOD:PUBLISH
X-WR-CALNAME:White Rabbits Hospitality
X-ORIGINAL-URL:https://whiterabbitshospitality.com
X-WR-CALDESC:Events for White Rabbits Hospitality
REFRESH-INTERVAL;VALUE=DURATION:PT1H
X-Robots-Tag:noindex
X-PUBLISHED-TTL:PT1H
BEGIN:VTIMEZONE
TZID:UTC
BEGIN:STANDARD
TZOFFSETFROM:+0000
TZOFFSETTO:+0000
TZNAME:UTC
DTSTART:20290101T000000
END:STANDARD
END:VTIMEZONE
BEGIN:VEVENT
DTSTART;TZID=UTC:20300511T080000
DTEND;TZID=UTC:20300511T120000
DTSTAMP:20260421T174601
CREATED:20260409T162552Z
LAST-MODIFIED:20260409T162552Z
UID:10000211-1904716800-1904731200@whiterabbitshospitality.com
SUMMARY:Farmers Market
DESCRIPTION:White Rabbit will be popping up at the Winchester–Clark County Farmers Market on Depot Street! Stop by our booth to connect\, support local\, and experience everything that makes downtown Winchester special. It’s the perfect way to spend a Saturday morning—good vibes\, great people\, and plenty to explore.
URL:https://whiterabbitshospitality.com/event/farmers-market/2030-05-11/
END:VEVENT
BEGIN:VEVENT
DTSTART;TZID=UTC:20300518T080000
DTEND;TZID=UTC:20300518T120000
DTSTAMP:20260421T174601
CREATED:20260409T162552Z
LAST-MODIFIED:20260409T162552Z
UID:10000212-1905321600-1905336000@whiterabbitshospitality.com
SUMMARY:Farmers Market
DESCRIPTION:White Rabbit will be popping up at the Winchester–Clark County Farmers Market on Depot Street! Stop by our booth to connect\, support local\, and experience everything that makes downtown Winchester special. It’s the perfect way to spend a Saturday morning—good vibes\, great people\, and plenty to explore.
URL:https://whiterabbitshospitality.com/event/farmers-market/2030-05-18/
END:VEVENT
BEGIN:VEVENT
DTSTART;TZID=UTC:20300525T080000
DTEND;TZID=UTC:20300525T120000
DTSTAMP:20260421T174601
CREATED:20260409T162552Z
LAST-MODIFIED:20260409T162552Z
UID:10000213-1905926400-1905940800@whiterabbitshospitality.com
SUMMARY:Farmers Market
DESCRIPTION:White Rabbit will be popping up at the Winchester–Clark County Farmers Market on Depot Street! Stop by our booth to connect\, support local\, and experience everything that makes downtown Winchester special. It’s the perfect way to spend a Saturday morning—good vibes\, great people\, and plenty to explore.
URL:https://whiterabbitshospitality.com/event/farmers-market/2030-05-25/
END:VEVENT
BEGIN:VEVENT
DTSTART;TZID=UTC:20300601T080000
DTEND;TZID=UTC:20300601T120000
DTSTAMP:20260421T174601
CREATED:20260409T162552Z
LAST-MODIFIED:20260409T162552Z
UID:10000214-1906531200-1906545600@whiterabbitshospitality.com
SUMMARY:Farmers Market
DESCRIPTION:White Rabbit will be popping up at the Winchester–Clark County Farmers Market on Depot Street! Stop by our booth to connect\, support local\, and experience everything that makes downtown Winchester special. It’s the perfect way to spend a Saturday morning—good vibes\, great people\, and plenty to explore.
URL:https://whiterabbitshospitality.com/event/farmers-market/2030-06-01/
END:VEVENT
BEGIN:VEVENT
DTSTART;TZID=UTC:20300608T080000
DTEND;TZID=UTC:20300608T120000
DTSTAMP:20260421T174601
CREATED:20260409T162552Z
LAST-MODIFIED:20260409T162552Z
UID:10000215-1907136000-1907150400@whiterabbitshospitality.com
SUMMARY:Farmers Market
DESCRIPTION:White Rabbit will be popping up at the Winchester–Clark County Farmers Market on Depot Street! Stop by our booth to connect\, support local\, and experience everything that makes downtown Winchester special. It’s the perfect way to spend a Saturday morning—good vibes\, great people\, and plenty to explore.
URL:https://whiterabbitshospitality.com/event/farmers-market/2030-06-08/
END:VEVENT
BEGIN:VEVENT
DTSTART;TZID=UTC:20300615T080000
DTEND;TZID=UTC:20300615T120000
DTSTAMP:20260421T174601
CREATED:20260409T162552Z
LAST-MODIFIED:20260409T162552Z
UID:10000216-1907740800-1907755200@whiterabbitshospitality.com
SUMMARY:Farmers Market
DESCRIPTION:White Rabbit will be popping up at the Winchester–Clark County Farmers Market on Depot Street! Stop by our booth to connect\, support local\, and experience everything that makes downtown Winchester special. It’s the perfect way to spend a Saturday morning—good vibes\, great people\, and plenty to explore.
URL:https://whiterabbitshospitality.com/event/farmers-market/2030-06-15/
END:VEVENT
BEGIN:VEVENT
DTSTART;TZID=UTC:20300622T080000
DTEND;TZID=UTC:20300622T120000
DTSTAMP:20260421T174601
CREATED:20260409T162552Z
LAST-MODIFIED:20260409T162552Z
UID:10000217-1908345600-1908360000@whiterabbitshospitality.com
SUMMARY:Farmers Market
DESCRIPTION:White Rabbit will be popping up at the Winchester–Clark County Farmers Market on Depot Street! Stop by our booth to connect\, support local\, and experience everything that makes downtown Winchester special. It’s the perfect way to spend a Saturday morning—good vibes\, great people\, and plenty to explore.
URL:https://whiterabbitshospitality.com/event/farmers-market/2030-06-22/
END:VEVENT
BEGIN:VEVENT
DTSTART;TZID=UTC:20300629T080000
DTEND;TZID=UTC:20300629T120000
DTSTAMP:20260421T174601
CREATED:20260409T162552Z
LAST-MODIFIED:20260409T162552Z
UID:10000218-1908950400-1908964800@whiterabbitshospitality.com
SUMMARY:Farmers Market
DESCRIPTION:White Rabbit will be popping up at the Winchester–Clark County Farmers Market on Depot Street! Stop by our booth to connect\, support local\, and experience everything that makes downtown Winchester special. It’s the perfect way to spend a Saturday morning—good vibes\, great people\, and plenty to explore.
URL:https://whiterabbitshospitality.com/event/farmers-market/2030-06-29/
END:VEVENT
BEGIN:VEVENT
DTSTART;TZID=UTC:20300706T080000
DTEND;TZID=UTC:20300706T120000
DTSTAMP:20260421T174601
CREATED:20260409T162552Z
LAST-MODIFIED:20260409T162552Z
UID:10000219-1909555200-1909569600@whiterabbitshospitality.com
SUMMARY:Farmers Market
DESCRIPTION:White Rabbit will be popping up at the Winchester–Clark County Farmers Market on Depot Street! Stop by our booth to connect\, support local\, and experience everything that makes downtown Winchester special. It’s the perfect way to spend a Saturday morning—good vibes\, great people\, and plenty to explore.
URL:https://whiterabbitshospitality.com/event/farmers-market/2030-07-06/
END:VEVENT
BEGIN:VEVENT
DTSTART;TZID=UTC:20300713T080000
DTEND;TZID=UTC:20300713T120000
DTSTAMP:20260421T174601
CREATED:20260409T162552Z
LAST-MODIFIED:20260409T162552Z
UID:10000220-1910160000-1910174400@whiterabbitshospitality.com
SUMMARY:Farmers Market
DESCRIPTION:White Rabbit will be popping up at the Winchester–Clark County Farmers Market on Depot Street! Stop by our booth to connect\, support local\, and experience everything that makes downtown Winchester special. It’s the perfect way to spend a Saturday morning—good vibes\, great people\, and plenty to explore.
URL:https://whiterabbitshospitality.com/event/farmers-market/2030-07-13/
END:VEVENT
BEGIN:VEVENT
DTSTART;TZID=UTC:20300720T080000
DTEND;TZID=UTC:20300720T120000
DTSTAMP:20260421T174601
CREATED:20260409T162552Z
LAST-MODIFIED:20260409T162552Z
UID:10000221-1910764800-1910779200@whiterabbitshospitality.com
SUMMARY:Farmers Market
DESCRIPTION:White Rabbit will be popping up at the Winchester–Clark County Farmers Market on Depot Street! Stop by our booth to connect\, support local\, and experience everything that makes downtown Winchester special. It’s the perfect way to spend a Saturday morning—good vibes\, great people\, and plenty to explore.
URL:https://whiterabbitshospitality.com/event/farmers-market/2030-07-20/
END:VEVENT
BEGIN:VEVENT
DTSTART;TZID=UTC:20300727T080000
DTEND;TZID=UTC:20300727T120000
DTSTAMP:20260421T174601
CREATED:20260409T162552Z
LAST-MODIFIED:20260409T162552Z
UID:10000222-1911369600-1911384000@whiterabbitshospitality.com
SUMMARY:Farmers Market
DESCRIPTION:White Rabbit will be popping up at the Winchester–Clark County Farmers Market on Depot Street! Stop by our booth to connect\, support local\, and experience everything that makes downtown Winchester special. It’s the perfect way to spend a Saturday morning—good vibes\, great people\, and plenty to explore.
URL:https://whiterabbitshospitality.com/event/farmers-market/2030-07-27/
END:VEVENT
BEGIN:VEVENT
DTSTART;TZID=UTC:20300803T080000
DTEND;TZID=UTC:20300803T120000
DTSTAMP:20260421T174601
CREATED:20260409T162552Z
LAST-MODIFIED:20260409T162552Z
UID:10000223-1911974400-1911988800@whiterabbitshospitality.com
SUMMARY:Farmers Market
DESCRIPTION:White Rabbit will be popping up at the Winchester–Clark County Farmers Market on Depot Street! Stop by our booth to connect\, support local\, and experience everything that makes downtown Winchester special. It’s the perfect way to spend a Saturday morning—good vibes\, great people\, and plenty to explore.
URL:https://whiterabbitshospitality.com/event/farmers-market/2030-08-03/
END:VEVENT
BEGIN:VEVENT
DTSTART;TZID=UTC:20300810T080000
DTEND;TZID=UTC:20300810T120000
DTSTAMP:20260421T174601
CREATED:20260409T162552Z
LAST-MODIFIED:20260409T162552Z
UID:10000224-1912579200-1912593600@whiterabbitshospitality.com
SUMMARY:Farmers Market
DESCRIPTION:White Rabbit will be popping up at the Winchester–Clark County Farmers Market on Depot Street! Stop by our booth to connect\, support local\, and experience everything that makes downtown Winchester special. It’s the perfect way to spend a Saturday morning—good vibes\, great people\, and plenty to explore.
URL:https://whiterabbitshospitality.com/event/farmers-market/2030-08-10/
END:VEVENT
BEGIN:VEVENT
DTSTART;TZID=UTC:20300817T080000
DTEND;TZID=UTC:20300817T120000
DTSTAMP:20260421T174601
CREATED:20260409T162552Z
LAST-MODIFIED:20260409T162552Z
UID:10000225-1913184000-1913198400@whiterabbitshospitality.com
SUMMARY:Farmers Market
DESCRIPTION:White Rabbit will be popping up at the Winchester–Clark County Farmers Market on Depot Street! Stop by our booth to connect\, support local\, and experience everything that makes downtown Winchester special. It’s the perfect way to spend a Saturday morning—good vibes\, great people\, and plenty to explore.
URL:https://whiterabbitshospitality.com/event/farmers-market/2030-08-17/
END:VEVENT
BEGIN:VEVENT
DTSTART;TZID=UTC:20300824T080000
DTEND;TZID=UTC:20300824T120000
DTSTAMP:20260421T174601
CREATED:20260409T162552Z
LAST-MODIFIED:20260409T162552Z
UID:10000226-1913788800-1913803200@whiterabbitshospitality.com
SUMMARY:Farmers Market
DESCRIPTION:White Rabbit will be popping up at the Winchester–Clark County Farmers Market on Depot Street! Stop by our booth to connect\, support local\, and experience everything that makes downtown Winchester special. It’s the perfect way to spend a Saturday morning—good vibes\, great people\, and plenty to explore.
URL:https://whiterabbitshospitality.com/event/farmers-market/2030-08-24/
END:VEVENT
BEGIN:VEVENT
DTSTART;TZID=UTC:20300831T080000
DTEND;TZID=UTC:20300831T120000
DTSTAMP:20260421T174601
CREATED:20260409T162552Z
LAST-MODIFIED:20260409T162552Z
UID:10000227-1914393600-1914408000@whiterabbitshospitality.com
SUMMARY:Farmers Market
DESCRIPTION:White Rabbit will be popping up at the Winchester–Clark County Farmers Market on Depot Street! Stop by our booth to connect\, support local\, and experience everything that makes downtown Winchester special. It’s the perfect way to spend a Saturday morning—good vibes\, great people\, and plenty to explore.
URL:https://whiterabbitshospitality.com/event/farmers-market/2030-08-31/
END:VEVENT
BEGIN:VEVENT
DTSTART;TZID=UTC:20300907T080000
DTEND;TZID=UTC:20300907T120000
DTSTAMP:20260421T174601
CREATED:20260409T162552Z
LAST-MODIFIED:20260409T162552Z
UID:10000228-1914998400-1915012800@whiterabbitshospitality.com
SUMMARY:Farmers Market
DESCRIPTION:White Rabbit will be popping up at the Winchester–Clark County Farmers Market on Depot Street! Stop by our booth to connect\, support local\, and experience everything that makes downtown Winchester special. It’s the perfect way to spend a Saturday morning—good vibes\, great people\, and plenty to explore.
URL:https://whiterabbitshospitality.com/event/farmers-market/2030-09-07/
END:VEVENT
BEGIN:VEVENT
DTSTART;TZID=UTC:20300914T080000
DTEND;TZID=UTC:20300914T120000
DTSTAMP:20260421T174601
CREATED:20260409T162552Z
LAST-MODIFIED:20260409T162552Z
UID:10000229-1915603200-1915617600@whiterabbitshospitality.com
SUMMARY:Farmers Market
DESCRIPTION:White Rabbit will be popping up at the Winchester–Clark County Farmers Market on Depot Street! Stop by our booth to connect\, support local\, and experience everything that makes downtown Winchester special. It’s the perfect way to spend a Saturday morning—good vibes\, great people\, and plenty to explore.
URL:https://whiterabbitshospitality.com/event/farmers-market/2030-09-14/
END:VEVENT
BEGIN:VEVENT
DTSTART;TZID=UTC:20300921T080000
DTEND;TZID=UTC:20300921T120000
DTSTAMP:20260421T174601
CREATED:20260409T162552Z
LAST-MODIFIED:20260409T162552Z
UID:10000230-1916208000-1916222400@whiterabbitshospitality.com
SUMMARY:Farmers Market
DESCRIPTION:White Rabbit will be popping up at the Winchester–Clark County Farmers Market on Depot Street! Stop by our booth to connect\, support local\, and experience everything that makes downtown Winchester special. It’s the perfect way to spend a Saturday morning—good vibes\, great people\, and plenty to explore.
URL:https://whiterabbitshospitality.com/event/farmers-market/2030-09-21/
END:VEVENT
BEGIN:VEVENT
DTSTART;TZID=UTC:20300928T080000
DTEND;TZID=UTC:20300928T120000
DTSTAMP:20260421T174601
CREATED:20260409T162552Z
LAST-MODIFIED:20260409T162552Z
UID:10000231-1916812800-1916827200@whiterabbitshospitality.com
SUMMARY:Farmers Market
DESCRIPTION:White Rabbit will be popping up at the Winchester–Clark County Farmers Market on Depot Street! Stop by our booth to connect\, support local\, and experience everything that makes downtown Winchester special. It’s the perfect way to spend a Saturday morning—good vibes\, great people\, and plenty to explore.
URL:https://whiterabbitshospitality.com/event/farmers-market/2030-09-28/
END:VEVENT
BEGIN:VEVENT
DTSTART;TZID=UTC:20301005T080000
DTEND;TZID=UTC:20301005T120000
DTSTAMP:20260421T174601
CREATED:20260409T162552Z
LAST-MODIFIED:20260409T162552Z
UID:10000232-1917417600-1917432000@whiterabbitshospitality.com
SUMMARY:Farmers Market
DESCRIPTION:White Rabbit will be popping up at the Winchester–Clark County Farmers Market on Depot Street! Stop by our booth to connect\, support local\, and experience everything that makes downtown Winchester special. It’s the perfect way to spend a Saturday morning—good vibes\, great people\, and plenty to explore.
URL:https://whiterabbitshospitality.com/event/farmers-market/2030-10-05/
END:VEVENT
BEGIN:VEVENT
DTSTART;TZID=UTC:20301012T080000
DTEND;TZID=UTC:20301012T120000
DTSTAMP:20260421T174601
CREATED:20260409T162552Z
LAST-MODIFIED:20260409T162552Z
UID:10000233-1918022400-1918036800@whiterabbitshospitality.com
SUMMARY:Farmers Market
DESCRIPTION:White Rabbit will be popping up at the Winchester–Clark County Farmers Market on Depot Street! Stop by our booth to connect\, support local\, and experience everything that makes downtown Winchester special. It’s the perfect way to spend a Saturday morning—good vibes\, great people\, and plenty to explore.
URL:https://whiterabbitshospitality.com/event/farmers-market/2030-10-12/
END:VEVENT
BEGIN:VEVENT
DTSTART;TZID=UTC:20301019T080000
DTEND;TZID=UTC:20301019T120000
DTSTAMP:20260421T174601
CREATED:20260409T162552Z
LAST-MODIFIED:20260409T162552Z
UID:10000234-1918627200-1918641600@whiterabbitshospitality.com
SUMMARY:Farmers Market
DESCRIPTION:White Rabbit will be popping up at the Winchester–Clark County Farmers Market on Depot Street! Stop by our booth to connect\, support local\, and experience everything that makes downtown Winchester special. It’s the perfect way to spend a Saturday morning—good vibes\, great people\, and plenty to explore.
URL:https://whiterabbitshospitality.com/event/farmers-market/2030-10-19/
END:VEVENT
BEGIN:VEVENT
DTSTART;TZID=UTC:20301026T080000
DTEND;TZID=UTC:20301026T120000
DTSTAMP:20260421T174601
CREATED:20260409T162552Z
LAST-MODIFIED:20260409T162552Z
UID:10000235-1919232000-1919246400@whiterabbitshospitality.com
SUMMARY:Farmers Market
DESCRIPTION:White Rabbit will be popping up at the Winchester–Clark County Farmers Market on Depot Street! Stop by our booth to connect\, support local\, and experience everything that makes downtown Winchester special. It’s the perfect way to spend a Saturday morning—good vibes\, great people\, and plenty to explore.
URL:https://whiterabbitshospitality.com/event/farmers-market/2030-10-26/
END:VEVENT
BEGIN:VEVENT
DTSTART;TZID=UTC:20301102T080000
DTEND;TZID=UTC:20301102T120000
DTSTAMP:20260421T174601
CREATED:20260409T162552Z
LAST-MODIFIED:20260409T162552Z
UID:10000236-1919836800-1919851200@whiterabbitshospitality.com
SUMMARY:Farmers Market
DESCRIPTION:White Rabbit will be popping up at the Winchester–Clark County Farmers Market on Depot Street! Stop by our booth to connect\, support local\, and experience everything that makes downtown Winchester special. It’s the perfect way to spend a Saturday morning—good vibes\, great people\, and plenty to explore.
URL:https://whiterabbitshospitality.com/event/farmers-market/2030-11-02/
END:VEVENT
BEGIN:VEVENT
DTSTART;TZID=UTC:20301109T080000
DTEND;TZID=UTC:20301109T120000
DTSTAMP:20260421T174601
CREATED:20260409T162552Z
LAST-MODIFIED:20260409T162552Z
UID:10000237-1920441600-1920456000@whiterabbitshospitality.com
SUMMARY:Farmers Market
DESCRIPTION:White Rabbit will be popping up at the Winchester–Clark County Farmers Market on Depot Street! Stop by our booth to connect\, support local\, and experience everything that makes downtown Winchester special. It’s the perfect way to spend a Saturday morning—good vibes\, great people\, and plenty to explore.
URL:https://whiterabbitshospitality.com/event/farmers-market/2030-11-09/
END:VEVENT
BEGIN:VEVENT
DTSTART;TZID=UTC:20301116T080000
DTEND;TZID=UTC:20301116T120000
DTSTAMP:20260421T174601
CREATED:20260409T162552Z
LAST-MODIFIED:20260409T162552Z
UID:10000238-1921046400-1921060800@whiterabbitshospitality.com
SUMMARY:Farmers Market
DESCRIPTION:White Rabbit will be popping up at the Winchester–Clark County Farmers Market on Depot Street! Stop by our booth to connect\, support local\, and experience everything that makes downtown Winchester special. It’s the perfect way to spend a Saturday morning—good vibes\, great people\, and plenty to explore.
URL:https://whiterabbitshospitality.com/event/farmers-market/2030-11-16/
END:VEVENT
BEGIN:VEVENT
DTSTART;TZID=UTC:20301123T080000
DTEND;TZID=UTC:20301123T120000
DTSTAMP:20260421T174601
CREATED:20260409T162552Z
LAST-MODIFIED:20260409T162552Z
UID:10000239-1921651200-1921665600@whiterabbitshospitality.com
SUMMARY:Farmers Market
DESCRIPTION:White Rabbit will be popping up at the Winchester–Clark County Farmers Market on Depot Street! Stop by our booth to connect\, support local\, and experience everything that makes downtown Winchester special. It’s the perfect way to spend a Saturday morning—good vibes\, great people\, and plenty to explore.
URL:https://whiterabbitshospitality.com/event/farmers-market/2030-11-23/
END:VEVENT
BEGIN:VEVENT
DTSTART;TZID=UTC:20301130T080000
DTEND;TZID=UTC:20301130T120000
DTSTAMP:20260421T174601
CREATED:20260409T162552Z
LAST-MODIFIED:20260409T162552Z
UID:10000240-1922256000-1922270400@whiterabbitshospitality.com
SUMMARY:Farmers Market
DESCRIPTION:White Rabbit will be popping up at the Winchester–Clark County Farmers Market on Depot Street! Stop by our booth to connect\, support local\, and experience everything that makes downtown Winchester special. It’s the perfect way to spend a Saturday morning—good vibes\, great people\, and plenty to explore.
URL:https://whiterabbitshospitality.com/event/farmers-market/2030-11-30/
END:VEVENT
END:VCALENDAR