BEGIN:VCALENDAR
VERSION:2.0
PRODID:-//White Rabbits Hospitality - ECPv6.15.20//NONSGML v1.0//EN
CALSCALE:GREGORIAN
METHOD:PUBLISH
X-WR-CALNAME:White Rabbits Hospitality
X-ORIGINAL-URL:https://whiterabbitshospitality.com
X-WR-CALDESC:Events for White Rabbits Hospitality
REFRESH-INTERVAL;VALUE=DURATION:PT1H
X-Robots-Tag:noindex
X-PUBLISHED-TTL:PT1H
BEGIN:VTIMEZONE
TZID:UTC
BEGIN:STANDARD
TZOFFSETFROM:+0000
TZOFFSETTO:+0000
TZNAME:UTC
DTSTART:20280101T000000
END:STANDARD
END:VTIMEZONE
BEGIN:VEVENT
DTSTART;TZID=UTC:20291117T080000
DTEND;TZID=UTC:20291117T120000
DTSTAMP:20260421T183558
CREATED:20260409T162552Z
LAST-MODIFIED:20260409T162552Z
UID:10000186-1889596800-1889611200@whiterabbitshospitality.com
SUMMARY:Farmers Market
DESCRIPTION:White Rabbit will be popping up at the Winchester–Clark County Farmers Market on Depot Street! Stop by our booth to connect\, support local\, and experience everything that makes downtown Winchester special. It’s the perfect way to spend a Saturday morning—good vibes\, great people\, and plenty to explore.
URL:https://whiterabbitshospitality.com/event/farmers-market/2029-11-17/
END:VEVENT
BEGIN:VEVENT
DTSTART;TZID=UTC:20291124T080000
DTEND;TZID=UTC:20291124T120000
DTSTAMP:20260421T183558
CREATED:20260409T162552Z
LAST-MODIFIED:20260409T162552Z
UID:10000187-1890201600-1890216000@whiterabbitshospitality.com
SUMMARY:Farmers Market
DESCRIPTION:White Rabbit will be popping up at the Winchester–Clark County Farmers Market on Depot Street! Stop by our booth to connect\, support local\, and experience everything that makes downtown Winchester special. It’s the perfect way to spend a Saturday morning—good vibes\, great people\, and plenty to explore.
URL:https://whiterabbitshospitality.com/event/farmers-market/2029-11-24/
END:VEVENT
BEGIN:VEVENT
DTSTART;TZID=UTC:20291201T080000
DTEND;TZID=UTC:20291201T120000
DTSTAMP:20260421T183558
CREATED:20260409T162552Z
LAST-MODIFIED:20260409T162552Z
UID:10000188-1890806400-1890820800@whiterabbitshospitality.com
SUMMARY:Farmers Market
DESCRIPTION:White Rabbit will be popping up at the Winchester–Clark County Farmers Market on Depot Street! Stop by our booth to connect\, support local\, and experience everything that makes downtown Winchester special. It’s the perfect way to spend a Saturday morning—good vibes\, great people\, and plenty to explore.
URL:https://whiterabbitshospitality.com/event/farmers-market/2029-12-01/
END:VEVENT
BEGIN:VEVENT
DTSTART;TZID=UTC:20291208T080000
DTEND;TZID=UTC:20291208T120000
DTSTAMP:20260421T183558
CREATED:20260409T162552Z
LAST-MODIFIED:20260409T162552Z
UID:10000189-1891411200-1891425600@whiterabbitshospitality.com
SUMMARY:Farmers Market
DESCRIPTION:White Rabbit will be popping up at the Winchester–Clark County Farmers Market on Depot Street! Stop by our booth to connect\, support local\, and experience everything that makes downtown Winchester special. It’s the perfect way to spend a Saturday morning—good vibes\, great people\, and plenty to explore.
URL:https://whiterabbitshospitality.com/event/farmers-market/2029-12-08/
END:VEVENT
BEGIN:VEVENT
DTSTART;TZID=UTC:20291215T080000
DTEND;TZID=UTC:20291215T120000
DTSTAMP:20260421T183558
CREATED:20260409T162552Z
LAST-MODIFIED:20260409T162552Z
UID:10000190-1892016000-1892030400@whiterabbitshospitality.com
SUMMARY:Farmers Market
DESCRIPTION:White Rabbit will be popping up at the Winchester–Clark County Farmers Market on Depot Street! Stop by our booth to connect\, support local\, and experience everything that makes downtown Winchester special. It’s the perfect way to spend a Saturday morning—good vibes\, great people\, and plenty to explore.
URL:https://whiterabbitshospitality.com/event/farmers-market/2029-12-15/
END:VEVENT
BEGIN:VEVENT
DTSTART;TZID=UTC:20291222T080000
DTEND;TZID=UTC:20291222T120000
DTSTAMP:20260421T183558
CREATED:20260409T162552Z
LAST-MODIFIED:20260409T162552Z
UID:10000191-1892620800-1892635200@whiterabbitshospitality.com
SUMMARY:Farmers Market
DESCRIPTION:White Rabbit will be popping up at the Winchester–Clark County Farmers Market on Depot Street! Stop by our booth to connect\, support local\, and experience everything that makes downtown Winchester special. It’s the perfect way to spend a Saturday morning—good vibes\, great people\, and plenty to explore.
URL:https://whiterabbitshospitality.com/event/farmers-market/2029-12-22/
END:VEVENT
BEGIN:VEVENT
DTSTART;TZID=UTC:20291229T080000
DTEND;TZID=UTC:20291229T120000
DTSTAMP:20260421T183558
CREATED:20260409T162552Z
LAST-MODIFIED:20260409T162552Z
UID:10000192-1893225600-1893240000@whiterabbitshospitality.com
SUMMARY:Farmers Market
DESCRIPTION:White Rabbit will be popping up at the Winchester–Clark County Farmers Market on Depot Street! Stop by our booth to connect\, support local\, and experience everything that makes downtown Winchester special. It’s the perfect way to spend a Saturday morning—good vibes\, great people\, and plenty to explore.
URL:https://whiterabbitshospitality.com/event/farmers-market/2029-12-29/
END:VEVENT
BEGIN:VEVENT
DTSTART;TZID=UTC:20300105T080000
DTEND;TZID=UTC:20300105T120000
DTSTAMP:20260421T183558
CREATED:20260409T162552Z
LAST-MODIFIED:20260409T162552Z
UID:10000193-1893830400-1893844800@whiterabbitshospitality.com
SUMMARY:Farmers Market
DESCRIPTION:White Rabbit will be popping up at the Winchester–Clark County Farmers Market on Depot Street! Stop by our booth to connect\, support local\, and experience everything that makes downtown Winchester special. It’s the perfect way to spend a Saturday morning—good vibes\, great people\, and plenty to explore.
URL:https://whiterabbitshospitality.com/event/farmers-market/2030-01-05/
END:VEVENT
BEGIN:VEVENT
DTSTART;TZID=UTC:20300112T080000
DTEND;TZID=UTC:20300112T120000
DTSTAMP:20260421T183558
CREATED:20260409T162552Z
LAST-MODIFIED:20260409T162552Z
UID:10000194-1894435200-1894449600@whiterabbitshospitality.com
SUMMARY:Farmers Market
DESCRIPTION:White Rabbit will be popping up at the Winchester–Clark County Farmers Market on Depot Street! Stop by our booth to connect\, support local\, and experience everything that makes downtown Winchester special. It’s the perfect way to spend a Saturday morning—good vibes\, great people\, and plenty to explore.
URL:https://whiterabbitshospitality.com/event/farmers-market/2030-01-12/
END:VEVENT
BEGIN:VEVENT
DTSTART;TZID=UTC:20300119T080000
DTEND;TZID=UTC:20300119T120000
DTSTAMP:20260421T183558
CREATED:20260409T162552Z
LAST-MODIFIED:20260409T162552Z
UID:10000195-1895040000-1895054400@whiterabbitshospitality.com
SUMMARY:Farmers Market
DESCRIPTION:White Rabbit will be popping up at the Winchester–Clark County Farmers Market on Depot Street! Stop by our booth to connect\, support local\, and experience everything that makes downtown Winchester special. It’s the perfect way to spend a Saturday morning—good vibes\, great people\, and plenty to explore.
URL:https://whiterabbitshospitality.com/event/farmers-market/2030-01-19/
END:VEVENT
BEGIN:VEVENT
DTSTART;TZID=UTC:20300126T080000
DTEND;TZID=UTC:20300126T120000
DTSTAMP:20260421T183558
CREATED:20260409T162552Z
LAST-MODIFIED:20260409T162552Z
UID:10000196-1895644800-1895659200@whiterabbitshospitality.com
SUMMARY:Farmers Market
DESCRIPTION:White Rabbit will be popping up at the Winchester–Clark County Farmers Market on Depot Street! Stop by our booth to connect\, support local\, and experience everything that makes downtown Winchester special. It’s the perfect way to spend a Saturday morning—good vibes\, great people\, and plenty to explore.
URL:https://whiterabbitshospitality.com/event/farmers-market/2030-01-26/
END:VEVENT
BEGIN:VEVENT
DTSTART;TZID=UTC:20300202T080000
DTEND;TZID=UTC:20300202T120000
DTSTAMP:20260421T183558
CREATED:20260409T162552Z
LAST-MODIFIED:20260409T162552Z
UID:10000197-1896249600-1896264000@whiterabbitshospitality.com
SUMMARY:Farmers Market
DESCRIPTION:White Rabbit will be popping up at the Winchester–Clark County Farmers Market on Depot Street! Stop by our booth to connect\, support local\, and experience everything that makes downtown Winchester special. It’s the perfect way to spend a Saturday morning—good vibes\, great people\, and plenty to explore.
URL:https://whiterabbitshospitality.com/event/farmers-market/2030-02-02/
END:VEVENT
BEGIN:VEVENT
DTSTART;TZID=UTC:20300209T080000
DTEND;TZID=UTC:20300209T120000
DTSTAMP:20260421T183558
CREATED:20260409T162552Z
LAST-MODIFIED:20260409T162552Z
UID:10000198-1896854400-1896868800@whiterabbitshospitality.com
SUMMARY:Farmers Market
DESCRIPTION:White Rabbit will be popping up at the Winchester–Clark County Farmers Market on Depot Street! Stop by our booth to connect\, support local\, and experience everything that makes downtown Winchester special. It’s the perfect way to spend a Saturday morning—good vibes\, great people\, and plenty to explore.
URL:https://whiterabbitshospitality.com/event/farmers-market/2030-02-09/
END:VEVENT
BEGIN:VEVENT
DTSTART;TZID=UTC:20300216T080000
DTEND;TZID=UTC:20300216T120000
DTSTAMP:20260421T183558
CREATED:20260409T162552Z
LAST-MODIFIED:20260409T162552Z
UID:10000199-1897459200-1897473600@whiterabbitshospitality.com
SUMMARY:Farmers Market
DESCRIPTION:White Rabbit will be popping up at the Winchester–Clark County Farmers Market on Depot Street! Stop by our booth to connect\, support local\, and experience everything that makes downtown Winchester special. It’s the perfect way to spend a Saturday morning—good vibes\, great people\, and plenty to explore.
URL:https://whiterabbitshospitality.com/event/farmers-market/2030-02-16/
END:VEVENT
BEGIN:VEVENT
DTSTART;TZID=UTC:20300223T080000
DTEND;TZID=UTC:20300223T120000
DTSTAMP:20260421T183558
CREATED:20260409T162552Z
LAST-MODIFIED:20260409T162552Z
UID:10000200-1898064000-1898078400@whiterabbitshospitality.com
SUMMARY:Farmers Market
DESCRIPTION:White Rabbit will be popping up at the Winchester–Clark County Farmers Market on Depot Street! Stop by our booth to connect\, support local\, and experience everything that makes downtown Winchester special. It’s the perfect way to spend a Saturday morning—good vibes\, great people\, and plenty to explore.
URL:https://whiterabbitshospitality.com/event/farmers-market/2030-02-23/
END:VEVENT
BEGIN:VEVENT
DTSTART;TZID=UTC:20300302T080000
DTEND;TZID=UTC:20300302T120000
DTSTAMP:20260421T183558
CREATED:20260409T162552Z
LAST-MODIFIED:20260409T162552Z
UID:10000201-1898668800-1898683200@whiterabbitshospitality.com
SUMMARY:Farmers Market
DESCRIPTION:White Rabbit will be popping up at the Winchester–Clark County Farmers Market on Depot Street! Stop by our booth to connect\, support local\, and experience everything that makes downtown Winchester special. It’s the perfect way to spend a Saturday morning—good vibes\, great people\, and plenty to explore.
URL:https://whiterabbitshospitality.com/event/farmers-market/2030-03-02/
END:VEVENT
BEGIN:VEVENT
DTSTART;TZID=UTC:20300309T080000
DTEND;TZID=UTC:20300309T120000
DTSTAMP:20260421T183558
CREATED:20260409T162552Z
LAST-MODIFIED:20260409T162552Z
UID:10000202-1899273600-1899288000@whiterabbitshospitality.com
SUMMARY:Farmers Market
DESCRIPTION:White Rabbit will be popping up at the Winchester–Clark County Farmers Market on Depot Street! Stop by our booth to connect\, support local\, and experience everything that makes downtown Winchester special. It’s the perfect way to spend a Saturday morning—good vibes\, great people\, and plenty to explore.
URL:https://whiterabbitshospitality.com/event/farmers-market/2030-03-09/
END:VEVENT
BEGIN:VEVENT
DTSTART;TZID=UTC:20300316T080000
DTEND;TZID=UTC:20300316T120000
DTSTAMP:20260421T183558
CREATED:20260409T162552Z
LAST-MODIFIED:20260409T162552Z
UID:10000203-1899878400-1899892800@whiterabbitshospitality.com
SUMMARY:Farmers Market
DESCRIPTION:White Rabbit will be popping up at the Winchester–Clark County Farmers Market on Depot Street! Stop by our booth to connect\, support local\, and experience everything that makes downtown Winchester special. It’s the perfect way to spend a Saturday morning—good vibes\, great people\, and plenty to explore.
URL:https://whiterabbitshospitality.com/event/farmers-market/2030-03-16/
END:VEVENT
BEGIN:VEVENT
DTSTART;TZID=UTC:20300323T080000
DTEND;TZID=UTC:20300323T120000
DTSTAMP:20260421T183558
CREATED:20260409T162552Z
LAST-MODIFIED:20260409T162552Z
UID:10000204-1900483200-1900497600@whiterabbitshospitality.com
SUMMARY:Farmers Market
DESCRIPTION:White Rabbit will be popping up at the Winchester–Clark County Farmers Market on Depot Street! Stop by our booth to connect\, support local\, and experience everything that makes downtown Winchester special. It’s the perfect way to spend a Saturday morning—good vibes\, great people\, and plenty to explore.
URL:https://whiterabbitshospitality.com/event/farmers-market/2030-03-23/
END:VEVENT
BEGIN:VEVENT
DTSTART;TZID=UTC:20300330T080000
DTEND;TZID=UTC:20300330T120000
DTSTAMP:20260421T183558
CREATED:20260409T162552Z
LAST-MODIFIED:20260409T162552Z
UID:10000205-1901088000-1901102400@whiterabbitshospitality.com
SUMMARY:Farmers Market
DESCRIPTION:White Rabbit will be popping up at the Winchester–Clark County Farmers Market on Depot Street! Stop by our booth to connect\, support local\, and experience everything that makes downtown Winchester special. It’s the perfect way to spend a Saturday morning—good vibes\, great people\, and plenty to explore.
URL:https://whiterabbitshospitality.com/event/farmers-market/2030-03-30/
END:VEVENT
BEGIN:VEVENT
DTSTART;TZID=UTC:20300406T080000
DTEND;TZID=UTC:20300406T120000
DTSTAMP:20260421T183558
CREATED:20260409T162552Z
LAST-MODIFIED:20260409T162552Z
UID:10000206-1901692800-1901707200@whiterabbitshospitality.com
SUMMARY:Farmers Market
DESCRIPTION:White Rabbit will be popping up at the Winchester–Clark County Farmers Market on Depot Street! Stop by our booth to connect\, support local\, and experience everything that makes downtown Winchester special. It’s the perfect way to spend a Saturday morning—good vibes\, great people\, and plenty to explore.
URL:https://whiterabbitshospitality.com/event/farmers-market/2030-04-06/
END:VEVENT
BEGIN:VEVENT
DTSTART;TZID=UTC:20300413T080000
DTEND;TZID=UTC:20300413T120000
DTSTAMP:20260421T183558
CREATED:20260409T162552Z
LAST-MODIFIED:20260409T162552Z
UID:10000207-1902297600-1902312000@whiterabbitshospitality.com
SUMMARY:Farmers Market
DESCRIPTION:White Rabbit will be popping up at the Winchester–Clark County Farmers Market on Depot Street! Stop by our booth to connect\, support local\, and experience everything that makes downtown Winchester special. It’s the perfect way to spend a Saturday morning—good vibes\, great people\, and plenty to explore.
URL:https://whiterabbitshospitality.com/event/farmers-market/2030-04-13/
END:VEVENT
BEGIN:VEVENT
DTSTART;TZID=UTC:20300420T080000
DTEND;TZID=UTC:20300420T120000
DTSTAMP:20260421T183558
CREATED:20260409T162552Z
LAST-MODIFIED:20260409T162552Z
UID:10000208-1902902400-1902916800@whiterabbitshospitality.com
SUMMARY:Farmers Market
DESCRIPTION:White Rabbit will be popping up at the Winchester–Clark County Farmers Market on Depot Street! Stop by our booth to connect\, support local\, and experience everything that makes downtown Winchester special. It’s the perfect way to spend a Saturday morning—good vibes\, great people\, and plenty to explore.
URL:https://whiterabbitshospitality.com/event/farmers-market/2030-04-20/
END:VEVENT
BEGIN:VEVENT
DTSTART;TZID=UTC:20300427T080000
DTEND;TZID=UTC:20300427T120000
DTSTAMP:20260421T183558
CREATED:20260409T162552Z
LAST-MODIFIED:20260409T162552Z
UID:10000209-1903507200-1903521600@whiterabbitshospitality.com
SUMMARY:Farmers Market
DESCRIPTION:White Rabbit will be popping up at the Winchester–Clark County Farmers Market on Depot Street! Stop by our booth to connect\, support local\, and experience everything that makes downtown Winchester special. It’s the perfect way to spend a Saturday morning—good vibes\, great people\, and plenty to explore.
URL:https://whiterabbitshospitality.com/event/farmers-market/2030-04-27/
END:VEVENT
BEGIN:VEVENT
DTSTART;TZID=UTC:20300504T080000
DTEND;TZID=UTC:20300504T120000
DTSTAMP:20260421T183558
CREATED:20260409T162552Z
LAST-MODIFIED:20260409T162552Z
UID:10000210-1904112000-1904126400@whiterabbitshospitality.com
SUMMARY:Farmers Market
DESCRIPTION:White Rabbit will be popping up at the Winchester–Clark County Farmers Market on Depot Street! Stop by our booth to connect\, support local\, and experience everything that makes downtown Winchester special. It’s the perfect way to spend a Saturday morning—good vibes\, great people\, and plenty to explore.
URL:https://whiterabbitshospitality.com/event/farmers-market/2030-05-04/
END:VEVENT
BEGIN:VEVENT
DTSTART;TZID=UTC:20300511T080000
DTEND;TZID=UTC:20300511T120000
DTSTAMP:20260421T183558
CREATED:20260409T162552Z
LAST-MODIFIED:20260409T162552Z
UID:10000211-1904716800-1904731200@whiterabbitshospitality.com
SUMMARY:Farmers Market
DESCRIPTION:White Rabbit will be popping up at the Winchester–Clark County Farmers Market on Depot Street! Stop by our booth to connect\, support local\, and experience everything that makes downtown Winchester special. It’s the perfect way to spend a Saturday morning—good vibes\, great people\, and plenty to explore.
URL:https://whiterabbitshospitality.com/event/farmers-market/2030-05-11/
END:VEVENT
BEGIN:VEVENT
DTSTART;TZID=UTC:20300518T080000
DTEND;TZID=UTC:20300518T120000
DTSTAMP:20260421T183558
CREATED:20260409T162552Z
LAST-MODIFIED:20260409T162552Z
UID:10000212-1905321600-1905336000@whiterabbitshospitality.com
SUMMARY:Farmers Market
DESCRIPTION:White Rabbit will be popping up at the Winchester–Clark County Farmers Market on Depot Street! Stop by our booth to connect\, support local\, and experience everything that makes downtown Winchester special. It’s the perfect way to spend a Saturday morning—good vibes\, great people\, and plenty to explore.
URL:https://whiterabbitshospitality.com/event/farmers-market/2030-05-18/
END:VEVENT
BEGIN:VEVENT
DTSTART;TZID=UTC:20300525T080000
DTEND;TZID=UTC:20300525T120000
DTSTAMP:20260421T183558
CREATED:20260409T162552Z
LAST-MODIFIED:20260409T162552Z
UID:10000213-1905926400-1905940800@whiterabbitshospitality.com
SUMMARY:Farmers Market
DESCRIPTION:White Rabbit will be popping up at the Winchester–Clark County Farmers Market on Depot Street! Stop by our booth to connect\, support local\, and experience everything that makes downtown Winchester special. It’s the perfect way to spend a Saturday morning—good vibes\, great people\, and plenty to explore.
URL:https://whiterabbitshospitality.com/event/farmers-market/2030-05-25/
END:VEVENT
BEGIN:VEVENT
DTSTART;TZID=UTC:20300601T080000
DTEND;TZID=UTC:20300601T120000
DTSTAMP:20260421T183558
CREATED:20260409T162552Z
LAST-MODIFIED:20260409T162552Z
UID:10000214-1906531200-1906545600@whiterabbitshospitality.com
SUMMARY:Farmers Market
DESCRIPTION:White Rabbit will be popping up at the Winchester–Clark County Farmers Market on Depot Street! Stop by our booth to connect\, support local\, and experience everything that makes downtown Winchester special. It’s the perfect way to spend a Saturday morning—good vibes\, great people\, and plenty to explore.
URL:https://whiterabbitshospitality.com/event/farmers-market/2030-06-01/
END:VEVENT
BEGIN:VEVENT
DTSTART;TZID=UTC:20300608T080000
DTEND;TZID=UTC:20300608T120000
DTSTAMP:20260421T183558
CREATED:20260409T162552Z
LAST-MODIFIED:20260409T162552Z
UID:10000215-1907136000-1907150400@whiterabbitshospitality.com
SUMMARY:Farmers Market
DESCRIPTION:White Rabbit will be popping up at the Winchester–Clark County Farmers Market on Depot Street! Stop by our booth to connect\, support local\, and experience everything that makes downtown Winchester special. It’s the perfect way to spend a Saturday morning—good vibes\, great people\, and plenty to explore.
URL:https://whiterabbitshospitality.com/event/farmers-market/2030-06-08/
END:VEVENT
END:VCALENDAR