BEGIN:VCALENDAR
VERSION:2.0
PRODID:-//White Rabbits Hospitality - ECPv6.15.20//NONSGML v1.0//EN
CALSCALE:GREGORIAN
METHOD:PUBLISH
X-ORIGINAL-URL:https://whiterabbitshospitality.com
X-WR-CALDESC:Events for White Rabbits Hospitality
REFRESH-INTERVAL;VALUE=DURATION:PT1H
X-Robots-Tag:noindex
X-PUBLISHED-TTL:PT1H
BEGIN:VTIMEZONE
TZID:UTC
BEGIN:STANDARD
TZOFFSETFROM:+0000
TZOFFSETTO:+0000
TZNAME:UTC
DTSTART:20280101T000000
END:STANDARD
END:VTIMEZONE
BEGIN:VEVENT
DTSTART;TZID=UTC:20290324T080000
DTEND;TZID=UTC:20290324T120000
DTSTAMP:20260421T093537
CREATED:20260409T162552Z
LAST-MODIFIED:20260409T162552Z
UID:10000152-1869033600-1869048000@whiterabbitshospitality.com
SUMMARY:Farmers Market
DESCRIPTION:White Rabbit will be popping up at the Winchester–Clark County Farmers Market on Depot Street! Stop by our booth to connect\, support local\, and experience everything that makes downtown Winchester special. It’s the perfect way to spend a Saturday morning—good vibes\, great people\, and plenty to explore.
URL:https://whiterabbitshospitality.com/event/farmers-market/2029-03-24/
END:VEVENT
BEGIN:VEVENT
DTSTART;TZID=UTC:20290331T080000
DTEND;TZID=UTC:20290331T120000
DTSTAMP:20260421T093537
CREATED:20260409T162552Z
LAST-MODIFIED:20260409T162552Z
UID:10000153-1869638400-1869652800@whiterabbitshospitality.com
SUMMARY:Farmers Market
DESCRIPTION:White Rabbit will be popping up at the Winchester–Clark County Farmers Market on Depot Street! Stop by our booth to connect\, support local\, and experience everything that makes downtown Winchester special. It’s the perfect way to spend a Saturday morning—good vibes\, great people\, and plenty to explore.
URL:https://whiterabbitshospitality.com/event/farmers-market/2029-03-31/
END:VEVENT
BEGIN:VEVENT
DTSTART;TZID=UTC:20290407T080000
DTEND;TZID=UTC:20290407T120000
DTSTAMP:20260421T093537
CREATED:20260409T162552Z
LAST-MODIFIED:20260409T162552Z
UID:10000154-1870243200-1870257600@whiterabbitshospitality.com
SUMMARY:Farmers Market
DESCRIPTION:White Rabbit will be popping up at the Winchester–Clark County Farmers Market on Depot Street! Stop by our booth to connect\, support local\, and experience everything that makes downtown Winchester special. It’s the perfect way to spend a Saturday morning—good vibes\, great people\, and plenty to explore.
URL:https://whiterabbitshospitality.com/event/farmers-market/2029-04-07/
END:VEVENT
BEGIN:VEVENT
DTSTART;TZID=UTC:20290414T080000
DTEND;TZID=UTC:20290414T120000
DTSTAMP:20260421T093537
CREATED:20260409T162552Z
LAST-MODIFIED:20260409T162552Z
UID:10000155-1870848000-1870862400@whiterabbitshospitality.com
SUMMARY:Farmers Market
DESCRIPTION:White Rabbit will be popping up at the Winchester–Clark County Farmers Market on Depot Street! Stop by our booth to connect\, support local\, and experience everything that makes downtown Winchester special. It’s the perfect way to spend a Saturday morning—good vibes\, great people\, and plenty to explore.
URL:https://whiterabbitshospitality.com/event/farmers-market/2029-04-14/
END:VEVENT
BEGIN:VEVENT
DTSTART;TZID=UTC:20290421T080000
DTEND;TZID=UTC:20290421T120000
DTSTAMP:20260421T093537
CREATED:20260409T162552Z
LAST-MODIFIED:20260409T162552Z
UID:10000156-1871452800-1871467200@whiterabbitshospitality.com
SUMMARY:Farmers Market
DESCRIPTION:White Rabbit will be popping up at the Winchester–Clark County Farmers Market on Depot Street! Stop by our booth to connect\, support local\, and experience everything that makes downtown Winchester special. It’s the perfect way to spend a Saturday morning—good vibes\, great people\, and plenty to explore.
URL:https://whiterabbitshospitality.com/event/farmers-market/2029-04-21/
END:VEVENT
BEGIN:VEVENT
DTSTART;TZID=UTC:20290428T080000
DTEND;TZID=UTC:20290428T120000
DTSTAMP:20260421T093537
CREATED:20260409T162552Z
LAST-MODIFIED:20260409T162552Z
UID:10000157-1872057600-1872072000@whiterabbitshospitality.com
SUMMARY:Farmers Market
DESCRIPTION:White Rabbit will be popping up at the Winchester–Clark County Farmers Market on Depot Street! Stop by our booth to connect\, support local\, and experience everything that makes downtown Winchester special. It’s the perfect way to spend a Saturday morning—good vibes\, great people\, and plenty to explore.
URL:https://whiterabbitshospitality.com/event/farmers-market/2029-04-28/
END:VEVENT
BEGIN:VEVENT
DTSTART;TZID=UTC:20290505T080000
DTEND;TZID=UTC:20290505T120000
DTSTAMP:20260421T093537
CREATED:20260409T162552Z
LAST-MODIFIED:20260409T162552Z
UID:10000158-1872662400-1872676800@whiterabbitshospitality.com
SUMMARY:Farmers Market
DESCRIPTION:White Rabbit will be popping up at the Winchester–Clark County Farmers Market on Depot Street! Stop by our booth to connect\, support local\, and experience everything that makes downtown Winchester special. It’s the perfect way to spend a Saturday morning—good vibes\, great people\, and plenty to explore.
URL:https://whiterabbitshospitality.com/event/farmers-market/2029-05-05/
END:VEVENT
BEGIN:VEVENT
DTSTART;TZID=UTC:20290512T080000
DTEND;TZID=UTC:20290512T120000
DTSTAMP:20260421T093537
CREATED:20260409T162552Z
LAST-MODIFIED:20260409T162552Z
UID:10000159-1873267200-1873281600@whiterabbitshospitality.com
SUMMARY:Farmers Market
DESCRIPTION:White Rabbit will be popping up at the Winchester–Clark County Farmers Market on Depot Street! Stop by our booth to connect\, support local\, and experience everything that makes downtown Winchester special. It’s the perfect way to spend a Saturday morning—good vibes\, great people\, and plenty to explore.
URL:https://whiterabbitshospitality.com/event/farmers-market/2029-05-12/
END:VEVENT
BEGIN:VEVENT
DTSTART;TZID=UTC:20290519T080000
DTEND;TZID=UTC:20290519T120000
DTSTAMP:20260421T093537
CREATED:20260409T162552Z
LAST-MODIFIED:20260409T162552Z
UID:10000160-1873872000-1873886400@whiterabbitshospitality.com
SUMMARY:Farmers Market
DESCRIPTION:White Rabbit will be popping up at the Winchester–Clark County Farmers Market on Depot Street! Stop by our booth to connect\, support local\, and experience everything that makes downtown Winchester special. It’s the perfect way to spend a Saturday morning—good vibes\, great people\, and plenty to explore.
URL:https://whiterabbitshospitality.com/event/farmers-market/2029-05-19/
END:VEVENT
BEGIN:VEVENT
DTSTART;TZID=UTC:20290526T080000
DTEND;TZID=UTC:20290526T120000
DTSTAMP:20260421T093537
CREATED:20260409T162552Z
LAST-MODIFIED:20260409T162552Z
UID:10000161-1874476800-1874491200@whiterabbitshospitality.com
SUMMARY:Farmers Market
DESCRIPTION:White Rabbit will be popping up at the Winchester–Clark County Farmers Market on Depot Street! Stop by our booth to connect\, support local\, and experience everything that makes downtown Winchester special. It’s the perfect way to spend a Saturday morning—good vibes\, great people\, and plenty to explore.
URL:https://whiterabbitshospitality.com/event/farmers-market/2029-05-26/
END:VEVENT
BEGIN:VEVENT
DTSTART;TZID=UTC:20290602T080000
DTEND;TZID=UTC:20290602T120000
DTSTAMP:20260421T093537
CREATED:20260409T162552Z
LAST-MODIFIED:20260409T162552Z
UID:10000162-1875081600-1875096000@whiterabbitshospitality.com
SUMMARY:Farmers Market
DESCRIPTION:White Rabbit will be popping up at the Winchester–Clark County Farmers Market on Depot Street! Stop by our booth to connect\, support local\, and experience everything that makes downtown Winchester special. It’s the perfect way to spend a Saturday morning—good vibes\, great people\, and plenty to explore.
URL:https://whiterabbitshospitality.com/event/farmers-market/2029-06-02/
END:VEVENT
BEGIN:VEVENT
DTSTART;TZID=UTC:20290609T080000
DTEND;TZID=UTC:20290609T120000
DTSTAMP:20260421T093537
CREATED:20260409T162552Z
LAST-MODIFIED:20260409T162552Z
UID:10000163-1875686400-1875700800@whiterabbitshospitality.com
SUMMARY:Farmers Market
DESCRIPTION:White Rabbit will be popping up at the Winchester–Clark County Farmers Market on Depot Street! Stop by our booth to connect\, support local\, and experience everything that makes downtown Winchester special. It’s the perfect way to spend a Saturday morning—good vibes\, great people\, and plenty to explore.
URL:https://whiterabbitshospitality.com/event/farmers-market/2029-06-09/
END:VEVENT
BEGIN:VEVENT
DTSTART;TZID=UTC:20290616T080000
DTEND;TZID=UTC:20290616T120000
DTSTAMP:20260421T093537
CREATED:20260409T162552Z
LAST-MODIFIED:20260409T162552Z
UID:10000164-1876291200-1876305600@whiterabbitshospitality.com
SUMMARY:Farmers Market
DESCRIPTION:White Rabbit will be popping up at the Winchester–Clark County Farmers Market on Depot Street! Stop by our booth to connect\, support local\, and experience everything that makes downtown Winchester special. It’s the perfect way to spend a Saturday morning—good vibes\, great people\, and plenty to explore.
URL:https://whiterabbitshospitality.com/event/farmers-market/2029-06-16/
END:VEVENT
BEGIN:VEVENT
DTSTART;TZID=UTC:20290623T080000
DTEND;TZID=UTC:20290623T120000
DTSTAMP:20260421T093537
CREATED:20260409T162552Z
LAST-MODIFIED:20260409T162552Z
UID:10000165-1876896000-1876910400@whiterabbitshospitality.com
SUMMARY:Farmers Market
DESCRIPTION:White Rabbit will be popping up at the Winchester–Clark County Farmers Market on Depot Street! Stop by our booth to connect\, support local\, and experience everything that makes downtown Winchester special. It’s the perfect way to spend a Saturday morning—good vibes\, great people\, and plenty to explore.
URL:https://whiterabbitshospitality.com/event/farmers-market/2029-06-23/
END:VEVENT
BEGIN:VEVENT
DTSTART;TZID=UTC:20290630T080000
DTEND;TZID=UTC:20290630T120000
DTSTAMP:20260421T093537
CREATED:20260409T162552Z
LAST-MODIFIED:20260409T162552Z
UID:10000166-1877500800-1877515200@whiterabbitshospitality.com
SUMMARY:Farmers Market
DESCRIPTION:White Rabbit will be popping up at the Winchester–Clark County Farmers Market on Depot Street! Stop by our booth to connect\, support local\, and experience everything that makes downtown Winchester special. It’s the perfect way to spend a Saturday morning—good vibes\, great people\, and plenty to explore.
URL:https://whiterabbitshospitality.com/event/farmers-market/2029-06-30/
END:VEVENT
BEGIN:VEVENT
DTSTART;TZID=UTC:20290707T080000
DTEND;TZID=UTC:20290707T120000
DTSTAMP:20260421T093537
CREATED:20260409T162552Z
LAST-MODIFIED:20260409T162552Z
UID:10000167-1878105600-1878120000@whiterabbitshospitality.com
SUMMARY:Farmers Market
DESCRIPTION:White Rabbit will be popping up at the Winchester–Clark County Farmers Market on Depot Street! Stop by our booth to connect\, support local\, and experience everything that makes downtown Winchester special. It’s the perfect way to spend a Saturday morning—good vibes\, great people\, and plenty to explore.
URL:https://whiterabbitshospitality.com/event/farmers-market/2029-07-07/
END:VEVENT
BEGIN:VEVENT
DTSTART;TZID=UTC:20290714T080000
DTEND;TZID=UTC:20290714T120000
DTSTAMP:20260421T093537
CREATED:20260409T162552Z
LAST-MODIFIED:20260409T162552Z
UID:10000168-1878710400-1878724800@whiterabbitshospitality.com
SUMMARY:Farmers Market
DESCRIPTION:White Rabbit will be popping up at the Winchester–Clark County Farmers Market on Depot Street! Stop by our booth to connect\, support local\, and experience everything that makes downtown Winchester special. It’s the perfect way to spend a Saturday morning—good vibes\, great people\, and plenty to explore.
URL:https://whiterabbitshospitality.com/event/farmers-market/2029-07-14/
END:VEVENT
BEGIN:VEVENT
DTSTART;TZID=UTC:20290721T080000
DTEND;TZID=UTC:20290721T120000
DTSTAMP:20260421T093537
CREATED:20260409T162552Z
LAST-MODIFIED:20260409T162552Z
UID:10000169-1879315200-1879329600@whiterabbitshospitality.com
SUMMARY:Farmers Market
DESCRIPTION:White Rabbit will be popping up at the Winchester–Clark County Farmers Market on Depot Street! Stop by our booth to connect\, support local\, and experience everything that makes downtown Winchester special. It’s the perfect way to spend a Saturday morning—good vibes\, great people\, and plenty to explore.
URL:https://whiterabbitshospitality.com/event/farmers-market/2029-07-21/
END:VEVENT
BEGIN:VEVENT
DTSTART;TZID=UTC:20290728T080000
DTEND;TZID=UTC:20290728T120000
DTSTAMP:20260421T093537
CREATED:20260409T162552Z
LAST-MODIFIED:20260409T162552Z
UID:10000170-1879920000-1879934400@whiterabbitshospitality.com
SUMMARY:Farmers Market
DESCRIPTION:White Rabbit will be popping up at the Winchester–Clark County Farmers Market on Depot Street! Stop by our booth to connect\, support local\, and experience everything that makes downtown Winchester special. It’s the perfect way to spend a Saturday morning—good vibes\, great people\, and plenty to explore.
URL:https://whiterabbitshospitality.com/event/farmers-market/2029-07-28/
END:VEVENT
BEGIN:VEVENT
DTSTART;TZID=UTC:20290804T080000
DTEND;TZID=UTC:20290804T120000
DTSTAMP:20260421T093537
CREATED:20260409T162552Z
LAST-MODIFIED:20260409T162552Z
UID:10000171-1880524800-1880539200@whiterabbitshospitality.com
SUMMARY:Farmers Market
DESCRIPTION:White Rabbit will be popping up at the Winchester–Clark County Farmers Market on Depot Street! Stop by our booth to connect\, support local\, and experience everything that makes downtown Winchester special. It’s the perfect way to spend a Saturday morning—good vibes\, great people\, and plenty to explore.
URL:https://whiterabbitshospitality.com/event/farmers-market/2029-08-04/
END:VEVENT
BEGIN:VEVENT
DTSTART;TZID=UTC:20290811T080000
DTEND;TZID=UTC:20290811T120000
DTSTAMP:20260421T093537
CREATED:20260409T162552Z
LAST-MODIFIED:20260409T162552Z
UID:10000172-1881129600-1881144000@whiterabbitshospitality.com
SUMMARY:Farmers Market
DESCRIPTION:White Rabbit will be popping up at the Winchester–Clark County Farmers Market on Depot Street! Stop by our booth to connect\, support local\, and experience everything that makes downtown Winchester special. It’s the perfect way to spend a Saturday morning—good vibes\, great people\, and plenty to explore.
URL:https://whiterabbitshospitality.com/event/farmers-market/2029-08-11/
END:VEVENT
BEGIN:VEVENT
DTSTART;TZID=UTC:20290818T080000
DTEND;TZID=UTC:20290818T120000
DTSTAMP:20260421T093537
CREATED:20260409T162552Z
LAST-MODIFIED:20260409T162552Z
UID:10000173-1881734400-1881748800@whiterabbitshospitality.com
SUMMARY:Farmers Market
DESCRIPTION:White Rabbit will be popping up at the Winchester–Clark County Farmers Market on Depot Street! Stop by our booth to connect\, support local\, and experience everything that makes downtown Winchester special. It’s the perfect way to spend a Saturday morning—good vibes\, great people\, and plenty to explore.
URL:https://whiterabbitshospitality.com/event/farmers-market/2029-08-18/
END:VEVENT
BEGIN:VEVENT
DTSTART;TZID=UTC:20290825T080000
DTEND;TZID=UTC:20290825T120000
DTSTAMP:20260421T093537
CREATED:20260409T162552Z
LAST-MODIFIED:20260409T162552Z
UID:10000174-1882339200-1882353600@whiterabbitshospitality.com
SUMMARY:Farmers Market
DESCRIPTION:White Rabbit will be popping up at the Winchester–Clark County Farmers Market on Depot Street! Stop by our booth to connect\, support local\, and experience everything that makes downtown Winchester special. It’s the perfect way to spend a Saturday morning—good vibes\, great people\, and plenty to explore.
URL:https://whiterabbitshospitality.com/event/farmers-market/2029-08-25/
END:VEVENT
BEGIN:VEVENT
DTSTART;TZID=UTC:20290901T080000
DTEND;TZID=UTC:20290901T120000
DTSTAMP:20260421T093537
CREATED:20260409T162552Z
LAST-MODIFIED:20260409T162552Z
UID:10000175-1882944000-1882958400@whiterabbitshospitality.com
SUMMARY:Farmers Market
DESCRIPTION:White Rabbit will be popping up at the Winchester–Clark County Farmers Market on Depot Street! Stop by our booth to connect\, support local\, and experience everything that makes downtown Winchester special. It’s the perfect way to spend a Saturday morning—good vibes\, great people\, and plenty to explore.
URL:https://whiterabbitshospitality.com/event/farmers-market/2029-09-01/
END:VEVENT
BEGIN:VEVENT
DTSTART;TZID=UTC:20290908T080000
DTEND;TZID=UTC:20290908T120000
DTSTAMP:20260421T093537
CREATED:20260409T162552Z
LAST-MODIFIED:20260409T162552Z
UID:10000176-1883548800-1883563200@whiterabbitshospitality.com
SUMMARY:Farmers Market
DESCRIPTION:White Rabbit will be popping up at the Winchester–Clark County Farmers Market on Depot Street! Stop by our booth to connect\, support local\, and experience everything that makes downtown Winchester special. It’s the perfect way to spend a Saturday morning—good vibes\, great people\, and plenty to explore.
URL:https://whiterabbitshospitality.com/event/farmers-market/2029-09-08/
END:VEVENT
BEGIN:VEVENT
DTSTART;TZID=UTC:20290915T080000
DTEND;TZID=UTC:20290915T120000
DTSTAMP:20260421T093537
CREATED:20260409T162552Z
LAST-MODIFIED:20260409T162552Z
UID:10000177-1884153600-1884168000@whiterabbitshospitality.com
SUMMARY:Farmers Market
DESCRIPTION:White Rabbit will be popping up at the Winchester–Clark County Farmers Market on Depot Street! Stop by our booth to connect\, support local\, and experience everything that makes downtown Winchester special. It’s the perfect way to spend a Saturday morning—good vibes\, great people\, and plenty to explore.
URL:https://whiterabbitshospitality.com/event/farmers-market/2029-09-15/
END:VEVENT
BEGIN:VEVENT
DTSTART;TZID=UTC:20290922T080000
DTEND;TZID=UTC:20290922T120000
DTSTAMP:20260421T093537
CREATED:20260409T162552Z
LAST-MODIFIED:20260409T162552Z
UID:10000178-1884758400-1884772800@whiterabbitshospitality.com
SUMMARY:Farmers Market
DESCRIPTION:White Rabbit will be popping up at the Winchester–Clark County Farmers Market on Depot Street! Stop by our booth to connect\, support local\, and experience everything that makes downtown Winchester special. It’s the perfect way to spend a Saturday morning—good vibes\, great people\, and plenty to explore.
URL:https://whiterabbitshospitality.com/event/farmers-market/2029-09-22/
END:VEVENT
BEGIN:VEVENT
DTSTART;TZID=UTC:20290929T080000
DTEND;TZID=UTC:20290929T120000
DTSTAMP:20260421T093537
CREATED:20260409T162552Z
LAST-MODIFIED:20260409T162552Z
UID:10000179-1885363200-1885377600@whiterabbitshospitality.com
SUMMARY:Farmers Market
DESCRIPTION:White Rabbit will be popping up at the Winchester–Clark County Farmers Market on Depot Street! Stop by our booth to connect\, support local\, and experience everything that makes downtown Winchester special. It’s the perfect way to spend a Saturday morning—good vibes\, great people\, and plenty to explore.
URL:https://whiterabbitshospitality.com/event/farmers-market/2029-09-29/
END:VEVENT
BEGIN:VEVENT
DTSTART;TZID=UTC:20291006T080000
DTEND;TZID=UTC:20291006T120000
DTSTAMP:20260421T093537
CREATED:20260409T162552Z
LAST-MODIFIED:20260409T162552Z
UID:10000180-1885968000-1885982400@whiterabbitshospitality.com
SUMMARY:Farmers Market
DESCRIPTION:White Rabbit will be popping up at the Winchester–Clark County Farmers Market on Depot Street! Stop by our booth to connect\, support local\, and experience everything that makes downtown Winchester special. It’s the perfect way to spend a Saturday morning—good vibes\, great people\, and plenty to explore.
URL:https://whiterabbitshospitality.com/event/farmers-market/2029-10-06/
END:VEVENT
BEGIN:VEVENT
DTSTART;TZID=UTC:20291013T080000
DTEND;TZID=UTC:20291013T120000
DTSTAMP:20260421T093537
CREATED:20260409T162552Z
LAST-MODIFIED:20260409T162552Z
UID:10000181-1886572800-1886587200@whiterabbitshospitality.com
SUMMARY:Farmers Market
DESCRIPTION:White Rabbit will be popping up at the Winchester–Clark County Farmers Market on Depot Street! Stop by our booth to connect\, support local\, and experience everything that makes downtown Winchester special. It’s the perfect way to spend a Saturday morning—good vibes\, great people\, and plenty to explore.
URL:https://whiterabbitshospitality.com/event/farmers-market/2029-10-13/
END:VEVENT
END:VCALENDAR